BEGIN:VCALENDAR
VERSION:2.0
PRODID:-//Association of Ministerial PJP&#039;s - ECPv5.3.2.1//NONSGML v1.0//EN
CALSCALE:GREGORIAN
METHOD:PUBLISH
X-WR-CALNAME:Association of Ministerial PJP&#039;s
X-ORIGINAL-URL:https://ampjp.org.au
X-WR-CALDESC:Events for Association of Ministerial PJP&#039;s
BEGIN:VTIMEZONE
TZID:Australia/Sydney
BEGIN:STANDARD
TZOFFSETFROM:+1100
TZOFFSETTO:+1000
TZNAME:AEST
DTSTART:20210403T160000
END:STANDARD
BEGIN:DAYLIGHT
TZOFFSETFROM:+1000
TZOFFSETTO:+1100
TZNAME:AEDT
DTSTART:20211002T160000
END:DAYLIGHT
END:VTIMEZONE
BEGIN:VEVENT
DTSTART;TZID=Australia/Sydney:20210516T180000
DTEND;TZID=Australia/Sydney:20210517T180000
DTSTAMP:20210223T140657
CREATED:20200531T000745Z
LAST-MODIFIED:20201201T072700Z
UID:7443-1621188000-1621274400@ampjp.org.au
SUMMARY:AMPJP Council  meeting
DESCRIPTION:
URL:https://ampjp.org.au/event/ampjp-council-meeting-2/
LOCATION:Peter Canisius House\, 102 Mona Vale Rd\, Pymble\, NSW\, 2073\, Australia
CATEGORIES:Newsletter
END:VEVENT
END:VCALENDAR