BEGIN:VCALENDAR
VERSION:2.0
PRODID:-//Association of Ministerial PJP&#039;s - ECPv5.3.2.1//NONSGML v1.0//EN
CALSCALE:GREGORIAN
METHOD:PUBLISH
X-WR-CALNAME:Association of Ministerial PJP&#039;s
X-ORIGINAL-URL:https://ampjp.org.au
X-WR-CALDESC:Events for Association of Ministerial PJP&#039;s
BEGIN:VTIMEZONE
TZID:Australia/Sydney
BEGIN:STANDARD
TZOFFSETFROM:+1100
TZOFFSETTO:+1000
TZNAME:AEST
DTSTART:20210403T160000
END:STANDARD
BEGIN:DAYLIGHT
TZOFFSETFROM:+1000
TZOFFSETTO:+1100
TZNAME:AEDT
DTSTART:20211002T160000
END:DAYLIGHT
END:VTIMEZONE
BEGIN:VEVENT
DTSTART;VALUE=DATE:20210427
DTEND;VALUE=DATE:20210501
DTSTAMP:20210223T140635
CREATED:20200303T001535Z
LAST-MODIFIED:20201222T213717Z
UID:7079-1619481600-1619827199@ampjp.org.au
SUMMARY:Kildare Ministries Conference
DESCRIPTION:Living Justice. Go Out Joyfully \nDetails to be confirmed
URL:https://ampjp.org.au/event/kildare-ministries-conference/
CATEGORIES:Newsletter
ORGANIZER;CN="Kildare%20Ministries":MAILTO:monica.lang@kildareministries.org.au
END:VEVENT
END:VCALENDAR